BEGIN:VCALENDAR
VERSION:2.0
PRODID:-//Castle Park School - ECPv6.15.20//NONSGML v1.0//EN
CALSCALE:GREGORIAN
METHOD:PUBLISH
X-WR-CALNAME:Castle Park School
X-ORIGINAL-URL:https://castleparkschool.ie
X-WR-CALDESC:Events for Castle Park School
REFRESH-INTERVAL;VALUE=DURATION:PT1H
X-Robots-Tag:noindex
X-PUBLISHED-TTL:PT1H
BEGIN:VTIMEZONE
TZID:UTC
BEGIN:STANDARD
TZOFFSETFROM:+0000
TZOFFSETTO:+0000
TZNAME:UTC
DTSTART:20180101T000000
END:STANDARD
END:VTIMEZONE
BEGIN:VEVENT
DTSTART;TZID=UTC:20190323T084500
DTEND;TZID=UTC:20190323T110000
DTSTAMP:20260422T115408
CREATED:20190319T095410Z
LAST-MODIFIED:20190319T095410Z
UID:9175-1553330700-1553338800@castleparkschool.ie
SUMMARY:Form VI Rugby
DESCRIPTION:Rugby 7’s at St Gerard’s School
URL:https://castleparkschool.ie/event/form-vi-rugby/
LOCATION:St Gerard’s School\, Thornhill Road\, Bray\, Ireland
CATEGORIES:Important Date,School
END:VEVENT
BEGIN:VEVENT
DTSTART;VALUE=DATE:20190322
DTEND;VALUE=DATE:20190323
DTSTAMP:20260422T115408
CREATED:20190315T094313Z
LAST-MODIFIED:20190315T124752Z
UID:9122-1553212800-1553299199@castleparkschool.ie
SUMMARY:Musical Rehearsal - Forms V & VI
DESCRIPTION:Full costume and props should be brought to school on the day. Collection times as normal.
URL:https://castleparkschool.ie/event/musical-rehearsal-forms-v-vi/
CATEGORIES:Important Date,School
END:VEVENT
BEGIN:VEVENT
DTSTART;TZID=UTC:20190321T143000
DTEND;TZID=UTC:20190321T153000
DTSTAMP:20260422T115408
CREATED:20190319T095522Z
LAST-MODIFIED:20190319T095522Z
UID:9178-1553178600-1553182200@castleparkschool.ie
SUMMARY:Form V Girls' Hockey
DESCRIPTION:Home v St Anne’s
URL:https://castleparkschool.ie/event/form-v-girls-hockey/
CATEGORIES:Important Date,School
END:VEVENT
BEGIN:VEVENT
DTSTART;TZID=UTC:20190320T193000
DTEND;TZID=UTC:20190320T193000
DTSTAMP:20260422T115408
CREATED:20190315T094133Z
LAST-MODIFIED:20190315T124802Z
UID:9120-1553110200-1553110200@castleparkschool.ie
SUMMARY:Information Evening for Parents
DESCRIPTION:Presentation by Dr Claire Hayes.
URL:https://castleparkschool.ie/event/information-evening-for-parents/
CATEGORIES:Important Date,School
END:VEVENT
BEGIN:VEVENT
DTSTART;TZID=UTC:20190320T102500
DTEND;TZID=UTC:20190320T104000
DTSTAMP:20260422T115408
CREATED:20190315T094006Z
LAST-MODIFIED:20190315T124810Z
UID:9118-1553077500-1553078400@castleparkschool.ie
SUMMARY:Form II-P Parent Assembly
DESCRIPTION:Parents are invited to attend Assembly until 10:45am
URL:https://castleparkschool.ie/event/form-ii-p-parent-assembly/
CATEGORIES:Important Date,School
END:VEVENT
BEGIN:VEVENT
DTSTART;TZID=UTC:20190319T144500
DTEND;TZID=UTC:20190319T153000
DTSTAMP:20260422T115408
CREATED:20190319T095703Z
LAST-MODIFIED:20190319T095703Z
UID:9180-1553006700-1553009400@castleparkschool.ie
SUMMARY:Form IV Girls' Hockey
DESCRIPTION:Home v Loreto Dalkey
URL:https://castleparkschool.ie/event/form-iv-girls-hockey/
CATEGORIES:Important Date,School
END:VEVENT
BEGIN:VEVENT
DTSTART;VALUE=DATE:20190319
DTEND;VALUE=DATE:20190320
DTSTAMP:20260422T115408
CREATED:20190315T093743Z
LAST-MODIFIED:20190315T124818Z
UID:9116-1552953600-1553039999@castleparkschool.ie
SUMMARY:Form V Outing
DESCRIPTION:
URL:https://castleparkschool.ie/event/form-v-outing/
CATEGORIES:Important Date,School
END:VEVENT
BEGIN:VEVENT
DTSTART;VALUE=DATE:20190307
DTEND;VALUE=DATE:20190308
DTSTAMP:20260422T115408
CREATED:20190228T121433Z
LAST-MODIFIED:20190308T110019Z
UID:9024-1551916800-1552003199@castleparkschool.ie
SUMMARY:Confirmation Ceremony
DESCRIPTION:
URL:https://castleparkschool.ie/event/confirmation-ceremony/
CATEGORIES:Important Date,School
END:VEVENT
END:VCALENDAR