BEGIN:VCALENDAR
VERSION:2.0
PRODID:-//Castle Park School - ECPv6.15.20//NONSGML v1.0//EN
CALSCALE:GREGORIAN
METHOD:PUBLISH
X-WR-CALNAME:Castle Park School
X-ORIGINAL-URL:https://castleparkschool.ie
X-WR-CALDESC:Events for Castle Park School
REFRESH-INTERVAL;VALUE=DURATION:PT1H
X-Robots-Tag:noindex
X-PUBLISHED-TTL:PT1H
BEGIN:VTIMEZONE
TZID:UTC
BEGIN:STANDARD
TZOFFSETFROM:+0000
TZOFFSETTO:+0000
TZNAME:UTC
DTSTART:20180101T000000
END:STANDARD
END:VTIMEZONE
BEGIN:VEVENT
DTSTART;VALUE=DATE:20190514
DTEND;VALUE=DATE:20190515
DTSTAMP:20260420T081632
CREATED:20190503T084537Z
LAST-MODIFIED:20190503T084617Z
UID:9639-1557792000-1557878399@castleparkschool.ie
SUMMARY:Prep Department School Mile Challenge
DESCRIPTION:
URL:https://castleparkschool.ie/event/prep-department-school-mile-challenge/
CATEGORIES:Important Date,School,Sports
END:VEVENT
BEGIN:VEVENT
DTSTART;TZID=UTC:20190513T110000
DTEND;TZID=UTC:20190513T120000
DTSTAMP:20260420T081632
CREATED:20190404T124401Z
LAST-MODIFIED:20190404T124401Z
UID:9448-1557745200-1557748800@castleparkschool.ie
SUMMARY:Form III & IV Inter School Swimming Gala
DESCRIPTION:@ Home
URL:https://castleparkschool.ie/event/form-iii-iv-inter-school-swimming-gala/
CATEGORIES:Important Date,School,Sports
END:VEVENT
BEGIN:VEVENT
DTSTART;TZID=UTC:20190511T093000
DTEND;TZID=UTC:20190511T130000
DTSTAMP:20260420T081632
CREATED:20190408T170527Z
LAST-MODIFIED:20190408T170527Z
UID:9488-1557567000-1557579600@castleparkschool.ie
SUMMARY:AIJS Tennis Tournament
DESCRIPTION:Away @ Rathdown School
URL:https://castleparkschool.ie/event/aijs-tennis-tournament/
LOCATION:Rathdown School\, Upper Glenageary Road\, Glenageary\, Co. Dublin\, A96 NX44\, Ireland
CATEGORIES:Important Date,School,Sports
END:VEVENT
BEGIN:VEVENT
DTSTART;TZID=UTC:20190507T110000
DTEND;TZID=UTC:20190507T120000
DTSTAMP:20260420T081632
CREATED:20190404T124254Z
LAST-MODIFIED:20190404T124254Z
UID:9446-1557226800-1557230400@castleparkschool.ie
SUMMARY:Form V & VI Inter School Swimming Gala
DESCRIPTION:@ Home
URL:https://castleparkschool.ie/event/form-v-vi-inter-school-swimming-gala/
CATEGORIES:Important Date,School,Sports
END:VEVENT
BEGIN:VEVENT
DTSTART;TZID=UTC:20190411T143000
DTEND;TZID=UTC:20190411T153000
DTSTAMP:20260420T081632
CREATED:20190402T093255Z
LAST-MODIFIED:20190402T093255Z
UID:9417-1554993000-1554996600@castleparkschool.ie
SUMMARY:Form V Girls' Basketball
DESCRIPTION:Home v Holly Park
URL:https://castleparkschool.ie/event/form-v-girls-basketball/
CATEGORIES:Important Date,School,Sports
END:VEVENT
BEGIN:VEVENT
DTSTART;TZID=UTC:20190410T144500
DTEND;TZID=UTC:20190410T144500
DTSTAMP:20260420T081632
CREATED:20190402T093752Z
LAST-MODIFIED:20190402T093953Z
UID:9419-1554907500-1554907500@castleparkschool.ie
SUMMARY:Form III Girls' Hockey
DESCRIPTION:Away v Loreto Dalkey. \nReturn to School by 3:45pm Approx.
URL:https://castleparkschool.ie/event/form-iii-girls-hocket/
CATEGORIES:Important Date,School,Sports
END:VEVENT
BEGIN:VEVENT
DTSTART;TZID=UTC:20190327T153000
DTEND;TZID=UTC:20190327T153000
DTSTAMP:20260420T081632
CREATED:20190325T170128Z
LAST-MODIFIED:20190325T170128Z
UID:9367-1553700600-1553700600@castleparkschool.ie
SUMMARY:Form V Girls' Hockey
DESCRIPTION:Home v Loreto Dalkey
URL:https://castleparkschool.ie/event/form-v-girls-hockey-2/
CATEGORIES:Important Date,School,Sports
END:VEVENT
BEGIN:VEVENT
DTSTART;TZID=UTC:20190327T143000
DTEND;TZID=UTC:20190327T143000
DTSTAMP:20260420T081632
CREATED:20190325T170018Z
LAST-MODIFIED:20190325T170215Z
UID:9365-1553697000-1553697000@castleparkschool.ie
SUMMARY:Form VI Girls' Basketball
DESCRIPTION:Home v Holly Park
URL:https://castleparkschool.ie/event/form-vi-girls-basketball/
CATEGORIES:Important Date,School,Sports
END:VEVENT
BEGIN:VEVENT
DTSTART;TZID=UTC:20190326T111500
DTEND;TZID=UTC:20190326T111500
DTSTAMP:20260420T081632
CREATED:20190315T102033Z
LAST-MODIFIED:20190325T165819Z
UID:9127-1553598900-1553598900@castleparkschool.ie
SUMMARY:Form VI  Girl's Hockey Final
DESCRIPTION:Away @ Three Rock Rovers
URL:https://castleparkschool.ie/event/form-vi-girls-hockey-final/
LOCATION:Three Rock Rovers\, Grange Road\, Rathfarnham\, Dublin 14\, Ireland
CATEGORIES:Important Date,School,Sports
END:VEVENT
BEGIN:VEVENT
DTSTART;VALUE=DATE:20190130
DTEND;VALUE=DATE:20190131
DTSTAMP:20260420T081632
CREATED:20181022T100330Z
LAST-MODIFIED:20190308T110253Z
UID:8312-1548806400-1548892799@castleparkschool.ie
SUMMARY:AIJS Girls Basketball Competition
DESCRIPTION:
URL:https://castleparkschool.ie/event/aijs-girls-basketball-competition/
CATEGORIES:School,Sports
END:VEVENT
BEGIN:VEVENT
DTSTART;VALUE=DATE:20190123
DTEND;VALUE=DATE:20190124
DTSTAMP:20260420T081632
CREATED:20181022T095901Z
LAST-MODIFIED:20190308T110310Z
UID:8308-1548201600-1548287999@castleparkschool.ie
SUMMARY:AIJS Boys Basketball Competition
DESCRIPTION:
URL:https://castleparkschool.ie/event/aijs-boys-basketball-competition/
CATEGORIES:School,Sports
END:VEVENT
END:VCALENDAR